BEGIN:VCALENDAR
VERSION:2.0
PRODID:SchoolNow
CALSCALE:GREGORIAN
BEGIN:VEVENT
UID:921322f6-7049-11ef-b6f3-0afff68976e5
DTSTAMP:20250217T221002Z
SUMMARY:CDD Board Meeting
LOCATION:Gathering Room\, Arbor Greene Community Center\, 18000 Arbor Green
 e Drive\, Tampa\, Florida 33647
URL;VALUE=URI:https://www.arborgreene.com/calendar/6576684/cdd-board-meetin
 g
DTSTART:20250218T233000Z
DTEND:20250219T003000Z
ATTACH;FILENAME=2025-02-18 Board Meeting Agenda.pdf;FMTTYPE=application/pdf
 :https://campussuite-storage.s3.amazonaws.com/prod/1558949/e2d98676-f056-1
 1e9-87d2-12606da399aa/2916520/df8b2556-ed7b-11ef-987c-0a58a9feac02/file/20
 25-02-18 Board Meeting Agenda.pdf
END:VEVENT
END:VCALENDAR
