BEGIN:VCALENDAR
VERSION:2.0
PRODID:SchoolNow
CALSCALE:GREGORIAN
BEGIN:VEVENT
UID:e8751256-09c9-11ec-8fe4-0e2b5f74362d
DTSTAMP:20211115T175334Z
SUMMARY:CDD Board Meeting - Nov. 2021
URL;VALUE=URI:https://www.arborgreene.com/calendar/2695805/cdd-board-meetin
 g-oct-2021-clone
DTSTART:20211116T233000Z
DTEND:20211117T003000Z
ATTACH;FILENAME=;FMTTYPE=application/octet-stream:
END:VEVENT
END:VCALENDAR
